BEGIN:VCALENDAR
VERSION:2.0
PRODID:-//EFEU (Holger Reich) - ECPv6.15.20//NONSGML v1.0//EN
CALSCALE:GREGORIAN
METHOD:PUBLISH
X-WR-CALNAME:EFEU (Holger Reich)
X-ORIGINAL-URL:https://efeu.org
X-WR-CALDESC:Veranstaltungen für EFEU (Holger Reich)
REFRESH-INTERVAL;VALUE=DURATION:PT1H
X-Robots-Tag:noindex
X-PUBLISHED-TTL:PT1H
BEGIN:VTIMEZONE
TZID:Europe/Berlin
BEGIN:DAYLIGHT
TZOFFSETFROM:+0100
TZOFFSETTO:+0200
TZNAME:CEST
DTSTART:20250330T010000
END:DAYLIGHT
BEGIN:STANDARD
TZOFFSETFROM:+0200
TZOFFSETTO:+0100
TZNAME:CET
DTSTART:20251026T010000
END:STANDARD
BEGIN:DAYLIGHT
TZOFFSETFROM:+0100
TZOFFSETTO:+0200
TZNAME:CEST
DTSTART:20260329T010000
END:DAYLIGHT
BEGIN:STANDARD
TZOFFSETFROM:+0200
TZOFFSETTO:+0100
TZNAME:CET
DTSTART:20261025T010000
END:STANDARD
BEGIN:DAYLIGHT
TZOFFSETFROM:+0100
TZOFFSETTO:+0200
TZNAME:CEST
DTSTART:20270328T010000
END:DAYLIGHT
BEGIN:STANDARD
TZOFFSETFROM:+0200
TZOFFSETTO:+0100
TZNAME:CET
DTSTART:20271031T010000
END:STANDARD
END:VTIMEZONE
BEGIN:VEVENT
DTSTART;TZID=Europe/Berlin:20260329T170000
DTEND;TZID=Europe/Berlin:20260329T190000
DTSTAMP:20260422T133204
CREATED:20260116T033613Z
LAST-MODIFIED:20260116T041337Z
UID:972-1774803600-1774810800@efeu.org
SUMMARY:Gottesdienst Elim Gemeinde (Konstanz)
DESCRIPTION:Rumänischer Gottesdienst mit deutscher Predigt und Übersetzung
URL:https://efeu.org/event/gottesdienst-elim-gemeinde-konstanz/
LOCATION:Elim Gemeinde (Konstanz)\, Lorettostraße\, Konstanz\, Baden-Württemberg\, Germany
CATEGORIES:Gottesdienst (RU)
END:VEVENT
END:VCALENDAR